BEGIN:VCALENDAR
VERSION:2.0
PRODID:-//広島県緑化センター - ECPv4.4.5//NONSGML v1.0//EN
CALSCALE:GREGORIAN
METHOD:PUBLISH
X-WR-CALNAME:広島県緑化センター
X-ORIGINAL-URL:https://ryokka-c.jp/info2
X-WR-CALDESC:Events for 広島県緑化センター
BEGIN:VEVENT
DTSTART;VALUE=DATE:20190401
DTEND;VALUE=DATE:20190531
DTSTAMP:20260420T060814
CREATED:20190327T063812Z
LAST-MODIFIED:20190410T060052Z
UID:8038-1554076800-1559347199@ryokka-c.jp
SUMMARY:Instagramフォトコンテスト2019春
DESCRIPTION:\n\nインスタグラムから応募するフォトコンテストを開催します！\n\n募集期間は4月1日(月)～5月31日(金)で、\n\n広島県緑化センターで撮影した冬～春の写真を募集します。\n\n（2019年秋にも夏～秋がテーマのインスタグラムフォトコンテストを開催しますので夏の写真もぜひ撮影に来て下さいね！）\n\n【応募の方法はかんたん！】\n①まずは応募要項をご確認ください\n②Instagramで広島県緑化センターのアカウントをフォロー\n③園内で撮影した写真をハッシュタグ（ #広島県緑化センターフォトコン2019春 ）をつけて投稿\n\n写真はおひとり5点まで応募可能です。\n\nグランプリにはなんと！1万円分の商品券をプレゼントします！\n\n（グランプリの他ファミリー賞、わんこ賞、ウィンター賞など各賞）\n\n広島県緑化センターの魅力あふれる一枚をお待ちしています！\n\n※応募要項を必ずお読みいただき、投稿方法や注意事項をご確認ください。\nハッシュタグの間違いが無いよう投稿前に再度ご確認ください。\n\n \n\n【広島県緑化センターInstagram】\n\n\n
URL:https://ryokka-c.jp/info2/calendar/instagramphoto2019spring/
CATEGORIES:イベント
END:VEVENT
BEGIN:VEVENT
DTSTART;VALUE=DATE:20190526
DTEND;VALUE=DATE:20190526
DTSTAMP:20260420T060814
CREATED:20190327T020504Z
LAST-MODIFIED:20190522T050709Z
UID:8009-1558828800-1558915199@ryokka-c.jp
SUMMARY:ひろしま遊学の森でこんちゅう探検隊（要予約）
DESCRIPTION:【研修名】　ひろしま遊学の森でこんちゅう探検隊\n\n【日時】　5月26日(日)　10:00～12:00\n\n【場所】　学習室\n\n【内容】　春の昆虫と草花を探そう\n\n【講師】　広島市森林公園昆虫館技師　藤井　智展 　先生\n\n【詳細】　要予約先着15家族　無料　採集用具持参\n※予約開始は前月の1日からです。管理事務所窓口か、お電話でご予約ください。\n\n森づくりポイント、高齢者いきいき活動ポイント（1ポイント）対象イベントです。\n\n年間行事計画
URL:https://ryokka-c.jp/info2/calendar/%e3%81%b2%e3%82%8d%e3%81%97%e3%81%be%e9%81%8a%e5%ad%a6%e3%81%ae%e6%a3%ae%e3%81%a7%e3%81%93%e3%82%93%e3%81%a1%e3%82%85%e3%81%86%e6%8e%a2%e6%a4%9c%e9%9a%8a%ef%bc%88%e8%a6%81%e4%ba%88%e7%b4%84%ef%bc%89/
CATEGORIES:研修会
END:VEVENT
END:VCALENDAR