BEGIN:VCALENDAR
VERSION:2.0
PRODID:-//広島県緑化センター - ECPv4.4.5//NONSGML v1.0//EN
CALSCALE:GREGORIAN
METHOD:PUBLISH
X-WR-CALNAME:広島県緑化センター
X-ORIGINAL-URL:https://ryokka-c.jp/info2
X-WR-CALDESC:Events for 広島県緑化センター
BEGIN:VEVENT
DTSTART;TZID=Asia/Tokyo:20210801T100000
DTEND;TZID=Asia/Tokyo:20210801T150000
DTSTAMP:20260424T074352
CREATED:20210619T003719Z
LAST-MODIFIED:20210619T021913Z
UID:8142-1627812000-1627830000@ryokka-c.jp
SUMMARY:夏休み自由工作塾（自由参加）
DESCRIPTION:【研修名】夏休み自由工作塾\n\n【日時】　8月1日(日)　10:00～15:00（随時受付）\n\n【集合】　レストハウス裏庭\n\n【内容】　木の実や木の枝を使って自由工作しよう！\n\n【講師】　緑化センターボランティア　ふれあい湧\n\n【詳細】　自由参加（随時受付）　材料費1作品につき100円　マスク着用\n\n※新型コロナウイルス感染拡大防止の為、状況によっては研修内容の変更や開催を中止する事があります。\n\n※感染防止対策として、手指の消毒や密の回避等ご協力をお願いします。\n\n森づくりポイント、高齢者いきいき活動ポイント（1ポイント）対象イベントです。\n\n\n\n年間行事計画
URL:https://ryokka-c.jp/info2/calendar/jiyuukousakujyuku3/
CATEGORIES:研修会,行事一覧
END:VEVENT
END:VCALENDAR