BEGIN:VCALENDAR
VERSION:2.0
PRODID:-//広島県緑化センター - ECPv4.4.5//NONSGML v1.0//EN
CALSCALE:GREGORIAN
METHOD:PUBLISH
X-WR-CALNAME:広島県緑化センター
X-ORIGINAL-URL:https://ryokka-c.jp/info2
X-WR-CALDESC:Events for 広島県緑化センター
BEGIN:VEVENT
DTSTART;TZID=Asia/Tokyo:20210808T100000
DTEND;TZID=Asia/Tokyo:20210808T100000
DTSTAMP:20260424T074352
CREATED:20210630T234308Z
LAST-MODIFIED:20210701T060407Z
UID:8231-1628416800-1628416800@ryokka-c.jp
SUMMARY:第19回ひろしま「山の日」県民の集い（広島県緑化センター会場）
DESCRIPTION:広島県は6月の第1日曜をひろしま「山の日」としています。\n\n昨年に続き、今年も新型コロナウイルス感染防止対策のため、6月の開催は中止しましたが、8/8（日）山の日の祝日に開催することになりました。\n\n広島県緑化センターの会場では、自由工作とネイチャーゲーム体験を開催します。\n\n8月8日(日)の「山の日」は広島県緑化センターで自然とふれあいましょう。\n\n 
URL:https://ryokka-c.jp/info2/calendar/hirosimayamanohi-ryokka/
CATEGORIES:イベント,行事一覧
END:VEVENT
BEGIN:VEVENT
DTSTART;TZID=Asia/Tokyo:20210808T100000
DTEND;TZID=Asia/Tokyo:20210808T140000
DTSTAMP:20260424T074352
CREATED:20210715T013414Z
LAST-MODIFIED:20210715T013414Z
UID:10435-1628416800-1628431200@ryokka-c.jp
SUMMARY:自由工作（自由参加）ひろしま山の日県民の集い
DESCRIPTION:【研修名】自由工作\n\n【日時】　8月8日(日)　10:00～14:00（随時受付）\n\n【集合】　レストハウス裏庭\n\n【内容】　山の日のブースです。木の実や木の枝を使って自由工作しよう！\n\n【講師】　緑化センターボランティア　ふれあい湧\n\n【詳細】　自由参加（随時受付）　材料費　1作品につき100円\n\n※新型コロナウイルス感染拡大防止の為、状況によっては研修内容の変更や開催を中止する事があります。\n\n※感染防止対策として、手指の消毒や密の回避等ご協力をお願いします。\n\n森づくりポイント、高齢者いきいき活動ポイント（1ポイント）対象イベントです。\n\n \n\n年間行事計画
URL:https://ryokka-c.jp/info2/calendar/jiyuukousaku_yamanohi/
CATEGORIES:イベント,研修会,行事一覧
END:VEVENT
BEGIN:VEVENT
DTSTART;TZID=Asia/Tokyo:20210808T100000
DTEND;TZID=Asia/Tokyo:20210808T140000
DTSTAMP:20260424T074352
CREATED:20210715T014300Z
LAST-MODIFIED:20210715T014300Z
UID:10437-1628416800-1628431200@ryokka-c.jp
SUMMARY:森のネイチャーゲーム（自由参加）ひろしま山の日県民の集い
DESCRIPTION:【研修名】森のネイチャーゲーム\n\n【日時】　8月8日(日)　10:00～14:00（随時受付）\n\n【集合】　レストハウス裏庭\n\n【内容】　山の日のブースです。手作りの「ひゅるひゅる」を作って遊ぼう！\n\n【講師】　広島市シェアリングネイチャーの会\n\n【詳細】　自由参加（随時受付）　無料\n\n※新型コロナウイルス感染拡大防止の為、状況によっては研修内容の変更や開催を中止する事があります。\n\n※感染防止対策として、手指の消毒や密の回避等ご協力をお願いします。\n\n森づくりポイント、高齢者いきいき活動ポイント（1ポイント）対象イベントです。\n\n年間行事計画
URL:https://ryokka-c.jp/info2/calendar/naturegame_yamanohi/
CATEGORIES:イベント,研修会,行事一覧
END:VEVENT
END:VCALENDAR