BEGIN:VCALENDAR
VERSION:2.0
PRODID:-//広島県緑化センター - ECPv4.4.5//NONSGML v1.0//EN
CALSCALE:GREGORIAN
METHOD:PUBLISH
X-WR-CALNAME:広島県緑化センター
X-ORIGINAL-URL:https://ryokka-c.jp/info2
X-WR-CALDESC:Events for 広島県緑化センター
BEGIN:VEVENT
DTSTART;VALUE=DATE:20210811
DTEND;VALUE=DATE:20210910
DTSTAMP:20260424T073904
CREATED:20210714T230725Z
LAST-MODIFIED:20210815T064850Z
UID:8553-1628640000-1631318399@ryokka-c.jp
SUMMARY:鬼滅の絵筆展
DESCRIPTION:※中止になりました(日程延期予定➡未定)\n\n内容：アクリル絵の具やパステル絵の具・鉛筆を用いて風景画・人物画の描写\n\n期間：　8/11(水)～9/10(金) 　※休園日を除く\n\n時間：　9:00～16:00\n\n場所：　レストハウス　ボード展示\n\n[caption id="attachment_10451" align="alignnone" width="300"] OLYMPUS DIGITAL CAMERA[/caption]\n\n \n\n展示計画\n\n \n\n 
URL:https://ryokka-c.jp/info2/calendar/kimetsunoefudetenn/
CATEGORIES:展示会
END:VEVENT
BEGIN:VEVENT
DTSTART;TZID=Asia/Tokyo:20210903T100000
DTEND;TZID=Asia/Tokyo:20210903T120000
DTSTAMP:20260424T073904
CREATED:20210803T015056Z
LAST-MODIFIED:20210825T044844Z
UID:8443-1630663200-1630670400@ryokka-c.jp
SUMMARY:薬草健康講座（仮）
DESCRIPTION:※中止になりました※\n\n \n\n【研修名】遊学の森でやすらぎの一時\n\n【日時】　9月3日(金)　10:00～12:00\n\n【場所】　学習室\n\n【内容】　秋の七草や薬草，薬木，健康についての講義です。\n\n【講師】　広島国際大学 生涯学習自然園 前園長　薬学博士　　神田 博史 先生\n\n【詳細】　自由参加　無料　※マスク着用をお願いします。\n\n森づくりポイント、高齢者いきいき活動ポイント（1ポイント）対象イベントです。\n\n※広島市に気象警報等発令の場合は臨時閉園となり、研修会も中止します。\n\n※新型コロナウイルスの感染状況によっては中止となる場合があります。\n\n \n\n\n\n年間行事計画
URL:https://ryokka-c.jp/info2/calendar/yakusoukouza/
CATEGORIES:研修会,行事一覧
END:VEVENT
END:VCALENDAR