BEGIN:VCALENDAR
VERSION:2.0
PRODID:-//広島県緑化センター - ECPv4.4.5//NONSGML v1.0//EN
CALSCALE:GREGORIAN
METHOD:PUBLISH
X-WR-CALNAME:広島県緑化センター
X-ORIGINAL-URL:https://ryokka-c.jp/info2
X-WR-CALDESC:Events for 広島県緑化センター
BEGIN:VEVENT
DTSTART;VALUE=DATE:20211024
DTEND;VALUE=DATE:20211024
DTSTAMP:20260424T045929
CREATED:20210929T064336Z
LAST-MODIFIED:20210929T064546Z
UID:10619-1635033600-1635119999@ryokka-c.jp
SUMMARY:つづらふじでカゴ作り（要予約）
DESCRIPTION:【研修名】 つづらふじでカゴ作り（要予約）\n\n【日　時】 10月24日(日) 10:00～14:00\n\n【内　容】 作り方の基本を学び、実践します　※室内\n\n【集　合】 学習室\n\n【講　師】 つづらふじ造形作家  飛河　道雄  先生\n\n【詳　細】 要予約先着15組   材料費1\,500円\n\n※予約開始は9月1日からです。管理事務所窓口か、お電話(082-899-2811)でご予約ください。\n\n \n\n※新型コロナウイルス感染拡大防止の為、状況によっては研修内容の変更や開催を中止する事があります。\n※感染防止対策として、手指の消毒や密の回避、マスクの着用等ご協力をお願いします。\n\n※広島市に気象警報等発令の場合は臨時閉園となり、研修会も中止します。\n\n森づくりポイント、高齢者いきいき活動ポイント（1ポイント）対象イベントです。\n\n年間行事計画
URL:https://ryokka-c.jp/info2/calendar/%e3%81%a4%e3%81%a5%e3%82%89%e3%81%b5%e3%81%98%e3%81%a7%e3%82%ab%e3%82%b4%e4%bd%9c%e3%82%8a%ef%bc%88%e8%a6%81%e4%ba%88%e7%b4%84%ef%bc%89-3/
CATEGORIES:研修会
END:VEVENT
END:VCALENDAR