BEGIN:VCALENDAR
VERSION:2.0
PRODID:-//広島県緑化センター - ECPv4.4.5//NONSGML v1.0//EN
CALSCALE:GREGORIAN
METHOD:PUBLISH
X-WR-CALNAME:広島県緑化センター
X-ORIGINAL-URL:https://ryokka-c.jp/info2
X-WR-CALDESC:Events for 広島県緑化センター
BEGIN:VEVENT
DTSTART;VALUE=DATE:20211103
DTEND;VALUE=DATE:20211103
DTSTAMP:20260424T050051
CREATED:20210929T070230Z
LAST-MODIFIED:20211001T025355Z
UID:10626-1635897600-1635983999@ryokka-c.jp
SUMMARY:ネイチャーゲーム（自由参加）
DESCRIPTION:【研修名】 ネイチャーゲーム（自由参加）\n\n【日　時】 11月3日(水祝)　 10:00～15:00\n\n【内　容】 自然の中で遊ぼう\n\n【集　合】 管理事務所横\n\n【講　師】 広島市シェアリングネイチャーの会\n\n【詳　細】 自由参加（随時受付）   無料\n\n\n\n \n\n※新型コロナウイルス感染拡大防止の為、状況によっては研修内容の変更や開催を中止する事があります。\n※感染防止対策として、手指の消毒や密の回避、マスクの着用等ご協力をお願いします。\n\n※広島市に気象警報等発令の場合は臨時閉園となり、研修会も中止します。\n\n森づくりポイント、高齢者いきいき活動ポイント（1ポイント）対象イベントです。\n\n年間行事計画
URL:https://ryokka-c.jp/info2/calendar/nature_game/
CATEGORIES:研修会
END:VEVENT
BEGIN:VEVENT
DTSTART;VALUE=DATE:20211103
DTEND;VALUE=DATE:20211103
DTSTAMP:20260424T050051
CREATED:20211001T030840Z
LAST-MODIFIED:20211001T030840Z
UID:10648-1635897600-1635983999@ryokka-c.jp
SUMMARY:たね団子を作ろう～春咲き草花のたね団子～（自由参加）
DESCRIPTION:【研修名】 たね団子を作ろう～春咲き草花のたね団子～\n\n【日　時】 11月3日(水祝)    1回目11:30～　 2回目14:00\n\n【内　容】 春咲きの種団子作りに挑戦しよう\n\n【集　合】 管理事務所横\n\n【詳　細】 自由参加（先着順）   材料費200円   ※雨天中止\n\n※新型コロナウイルス感染拡大防止の為、状況によっては研修内容の変更や開催を中止する事があります。\n\n※感染防止対策として、手指の消毒や密の回避、マスクの着用等ご協力をお願いします。\n\n※広島市に気象警報等発令の場合は臨時閉園となり、研修会も中止します。\n\n森づくりポイント、高齢者いきいき活動ポイント（1ポイント）対象イベントです。\n\n年間行事計画
URL:https://ryokka-c.jp/info2/calendar/tanedango20211103/
CATEGORIES:研修会
END:VEVENT
BEGIN:VEVENT
DTSTART;TZID=Asia/Tokyo:20211103T110000
DTEND;TZID=Asia/Tokyo:20211103T123000
DTSTAMP:20260424T050051
CREATED:20211005T050605Z
LAST-MODIFIED:20211005T050605Z
UID:10684-1635937200-1635942600@ryokka-c.jp
SUMMARY:ノルディック・ウォーク
DESCRIPTION:ノルディック・ウォークとは、2本のウォーキング専用ポールを使って歩く北欧生まれの新しいウォーキングスタイルです。\n\n皆様奮ってご参加ください。\n\nなお、ご参加には事前の申し込みが必要です。\n\n開催場所や日時の詳しい情報、および参加申込書は、下記の画像をクリック／タップしてご確認ください（PDFファイルが開きます）。\n\n \n\n
URL:https://ryokka-c.jp/info2/calendar/%e3%83%8e%e3%83%ab%e3%83%87%e3%82%a3%e3%83%83%e3%82%af%e3%83%bb%e3%82%a6%e3%82%a9%e3%83%bc%e3%82%af/
CATEGORIES:イベント
END:VEVENT
END:VCALENDAR