BEGIN:VCALENDAR
VERSION:2.0
PRODID:-//広島県緑化センター - ECPv4.4.5//NONSGML v1.0//EN
CALSCALE:GREGORIAN
METHOD:PUBLISH
X-WR-CALNAME:広島県緑化センター
X-ORIGINAL-URL:https://ryokka-c.jp/info2
X-WR-CALDESC:Events for 広島県緑化センター
BEGIN:VEVENT
DTSTART;VALUE=DATE:20211107
DTEND;VALUE=DATE:20211107
DTSTAMP:20260424T034226
CREATED:20211001T041242Z
LAST-MODIFIED:20211001T041404Z
UID:10652-1636243200-1636329599@ryokka-c.jp
SUMMARY:自由工作塾（自由参加）
DESCRIPTION:【研修名】自由工作塾\n\n【日　時】11月7日(日)10:00～15:00\n\n【内　容】木の実や木の枝を使って自由に作品を作ります\n\n【集　合】レストハウス前\n\n【講　師】緑化センターボランティア　ふれあい湧\n\n【詳　細】自由参加（随時受付）材料費100円　※雨天中止\n\n\n\n※新型コロナウイルス感染拡大防止の為、状況によっては研修内容の変更や開催を中止する事があります。\n\n※感染防止対策として、手指の消毒や密の回避、マスクの着用等ご協力をお願いします。\n\n※広島市に気象警報等発令の場合は臨時閉園となり、研修会も中止します。\n\n森づくりポイント、高齢者いきいき活動ポイント（1ポイント）対象イベントです。\n\n年間行事計画
URL:https://ryokka-c.jp/info2/calendar/jiyuukousakujyuku20211107/
CATEGORIES:研修会
END:VEVENT
END:VCALENDAR