BEGIN:VCALENDAR
VERSION:2.0
PRODID:-//広島県緑化センター - ECPv4.4.5//NONSGML v1.0//EN
CALSCALE:GREGORIAN
METHOD:PUBLISH
X-WR-CALNAME:広島県緑化センター
X-ORIGINAL-URL:https://ryokka-c.jp/info2
X-WR-CALDESC:Events for 広島県緑化センター
BEGIN:VEVENT
DTSTART;VALUE=DATE:20211112
DTEND;VALUE=DATE:20211112
DTSTAMP:20260424T035241
CREATED:20211001T042112Z
LAST-MODIFIED:20211001T042227Z
UID:10659-1636675200-1636761599@ryokka-c.jp
SUMMARY:11月の自然探勝（自由参加）
DESCRIPTION:【研修名】11月の自然探勝\n\n【日　時】11月12日(金)  10:00～12:00\n\n【内　容】散策路を歩きながら植物を観察します\n\n【集　合】学習展示館前\n\n【講　師】緑花文化士   横山　直江  先生\n\n【詳　細】自由参加   無料\n\n\n\n※新型コロナウイルス感染拡大防止の為、状況によっては研修内容の変更や開催を中止する事があります。\n\n※感染防止対策として、手指の消毒や密の回避、マスクの着用等ご協力をお願いします。\n\n※広島市に気象警報等発令の場合は臨時閉園となり、研修会も中止します。\n\n森づくりポイント、高齢者いきいき活動ポイント（1ポイント）対象イベントです。\n\n年間行事計画
URL:https://ryokka-c.jp/info2/calendar/11sizentansyou20211112/
CATEGORIES:研修会
END:VEVENT
END:VCALENDAR