BEGIN:VCALENDAR
VERSION:2.0
PRODID:-//広島県緑化センター - ECPv4.4.5//NONSGML v1.0//EN
CALSCALE:GREGORIAN
METHOD:PUBLISH
X-WR-CALNAME:広島県緑化センター
X-ORIGINAL-URL:https://ryokka-c.jp/info2
X-WR-CALDESC:Events for 広島県緑化センター
BEGIN:VEVENT
DTSTART;VALUE=DATE:20211123
DTEND;VALUE=DATE:20211123
DTSTAMP:20260424T034241
CREATED:20211001T042633Z
LAST-MODIFIED:20211001T042633Z
UID:10664-1637625600-1637711999@ryokka-c.jp
SUMMARY:整枝・剪定講座～基本をしっかり身につけよう～（要予約）
DESCRIPTION:【研修名】 整枝・剪定講座～基本をしっかり身につけよう～\n\n【日　時】 11月23日(火祝)  10:00～12:00\n\n【内　容】 室内で基本を学び、屋外で実技指導を行います\n\n【集　合】 緑の相談所\n\n【講　師】 樹木医   難波　正孝  先生\n\n【詳　細】 要予約先着20名    無料   剪定鋏\,手鋸持参   ※見学不可\n\n\n\n※予約開始は10月1日からです。管理事務所窓口か、お電話(082-899-2811)でご予約ください。\n\n※新型コロナウイルス感染拡大防止の為、状況によっては研修内容の変更や開催を中止する事があります。\n\n※感染防止対策として、手指の消毒や密の回避、マスクの着用等ご協力をお願いします。\n\n※広島市に気象警報等発令の場合は臨時閉園となり、研修会も中止します。\n\n森づくりポイント、高齢者いきいき活動ポイント（1ポイント）対象イベントです。\n\n年間行事計画
URL:https://ryokka-c.jp/info2/calendar/seisisenteikouza20211123/
CATEGORIES:研修会
END:VEVENT
END:VCALENDAR