BEGIN:VCALENDAR
VERSION:2.0
PRODID:-//広島県緑化センター - ECPv4.4.5//NONSGML v1.0//EN
CALSCALE:GREGORIAN
METHOD:PUBLISH
X-WR-CALNAME:広島県緑化センター
X-ORIGINAL-URL:https://ryokka-c.jp/info2
X-WR-CALDESC:Events for 広島県緑化センター
BEGIN:VEVENT
DTSTART;VALUE=DATE:20211216
DTEND;VALUE=DATE:20211216
DTSTAMP:20260424T021835
CREATED:20211025T015459Z
LAST-MODIFIED:20211025T015459Z
UID:10774-1639612800-1639699199@ryokka-c.jp
SUMMARY:常緑広葉樹の見分け方（自由参加）
DESCRIPTION:【研修名】　常緑広葉樹の見分け方\n\n【日　時】　12月16日(木)　10:00～12:00\n\n【内　容】　実物の枝や葉っぱを用いて特徴や見分け方を学びます　※室内\n\n【集　合】　学習室\n\n【講　師】　森林植物研究家　垰田　宏　先生\n\n【詳　細】　自由参加　無料　ルーペ持参\n\n\n\n※新型コロナウイルス感染拡大防止の為、状況によっては研修内容の変更や開催を中止する事があります。\n※感染防止対策として、手指の消毒や密の回避、マスクの着用等ご協力をお願いします。\n\n※広島市に気象警報等発令の場合は臨時閉園となり、研修会も中止します。\n\nこの研修会は森づくりポイント、高齢者いきいき活動ポイント（1ポイント）対象イベントです。\n\n年間行事計画
URL:https://ryokka-c.jp/info2/calendar/jyouryokukouyoujyu/
CATEGORIES:研修会
END:VEVENT
END:VCALENDAR