BEGIN:VCALENDAR
VERSION:2.0
PRODID:-//広島県緑化センター - ECPv4.4.5//NONSGML v1.0//EN
CALSCALE:GREGORIAN
METHOD:PUBLISH
X-WR-CALNAME:広島県緑化センター
X-ORIGINAL-URL:https://ryokka-c.jp/info2
X-WR-CALDESC:Events for 広島県緑化センター
BEGIN:VEVENT
DTSTART;VALUE=DATE:20220202
DTEND;VALUE=DATE:20220227
DTSTAMP:20260423T232417
CREATED:20220131T234520Z
LAST-MODIFIED:20220201T000340Z
UID:10973-1643760000-1646006399@ryokka-c.jp
SUMMARY:緑化ポスター原画コンクール入賞作品展（レストハウス）
DESCRIPTION:【展示名】 緑化ポスター原画コンクール入賞作品展\n\n\n\n【期間】2/2 (水) ～ 2/27 (日)（※休園日を除く）\n\n【内容】緑化ポスター原画コンクール入賞作品展示\n\n【時間】9:00～16:00\n\n【会場】レストハウス（入場無料）\n\n※レストハウスで展示後、3/1～3/13まで学習展示館にて展示します。
URL:https://ryokka-c.jp/info2/calendar/%e7%b7%91%e5%8c%96%e3%83%9d%e3%82%b9%e3%82%bf%e3%83%bc%e5%8e%9f%e7%94%bb%e3%82%b3%e3%83%b3%e3%82%af%e3%83%bc%e3%83%ab%e5%85%a5%e8%b3%9e%e4%bd%9c%e5%93%81%e5%b1%95/
CATEGORIES:展示会
END:VEVENT
END:VCALENDAR