BEGIN:VCALENDAR
VERSION:2.0
PRODID:-//広島県緑化センター - ECPv4.4.5//NONSGML v1.0//EN
CALSCALE:GREGORIAN
METHOD:PUBLISH
X-WR-CALNAME:広島県緑化センター
X-ORIGINAL-URL:https://ryokka-c.jp/info2
X-WR-CALDESC:Events for 広島県緑化センター
BEGIN:VEVENT
DTSTART;VALUE=DATE:20220303
DTEND;VALUE=DATE:20220331
DTSTAMP:20260423T222523
CREATED:20220221T235729Z
LAST-MODIFIED:20220306T064643Z
UID:11005-1646265600-1648771199@ryokka-c.jp
SUMMARY:語り絵展
DESCRIPTION:【展示名】 語り絵展\n\n【期間】 3/3 (木) ～ 3/31 (木) （※休園日を除く）\n\n【内容】絵画と説明(語り)で構成された「絵物語」…「語り絵」の展示\n\n【時間】9:00～16:00\n\n【会場】レストハウス（入場無料）\n\n
URL:https://ryokka-c.jp/info2/calendar/%e8%aa%9e%e3%82%8a%e7%b5%b5%e5%b1%95/
CATEGORIES:展示会
END:VEVENT
BEGIN:VEVENT
DTSTART;VALUE=DATE:20220303
DTEND;VALUE=DATE:20220331
DTSTAMP:20260423T222523
CREATED:20220221T235849Z
LAST-MODIFIED:20220306T064657Z
UID:11007-1646265600-1648771199@ryokka-c.jp
SUMMARY:語り絵展【ステンドグラス展示】
DESCRIPTION:【展示名】 語り絵展【ステンドグラス展示】\n\n【期間】 3/3 (木) ～ 3/31 (木) （※休園日を除く）\n\n【内容】ステンドグラスの展示\n\n【時間】9:00～16:00\n\n【会場】レストハウスガラスケース（入場無料）\n\n
URL:https://ryokka-c.jp/info2/calendar/%e8%aa%9e%e3%82%8a%e7%b5%b5%e5%b1%95%e3%80%90%e3%82%b9%e3%83%86%e3%83%b3%e3%83%89%e3%82%b0%e3%83%a9%e3%82%b9%e5%b1%95%e7%a4%ba%e3%80%91/
CATEGORIES:展示会
END:VEVENT
BEGIN:VEVENT
DTSTART;VALUE=DATE:20220318
DTEND;VALUE=DATE:20220318
DTSTAMP:20260423T222523
CREATED:20220113T062638Z
LAST-MODIFIED:20220113T062638Z
UID:10953-1647561600-1647647999@ryokka-c.jp
SUMMARY:3月の自然探勝～早春の息吹、樹木の冬芽と草花の観察～（自由参加）
DESCRIPTION:【研修名】　3月の自然探勝～早春の息吹、樹木の冬芽と草花の観察～\n\n【日　時】　3月18日(金)　10:00～12:00\n\n【内　容】　散策路を歩きながら植物を観察します\n\n【集　合】　学習展示館前\n\n【講　師】　森林インストラクター　駄賀　恒男　先生\n\n【詳　細】　自由参加　無料　ルーペ持参\n\n\n\n※新型コロナウイルス感染拡大防止の為、状況によっては研修内容の変更や開催を中止する事があります。\n\n※感染防止対策として、手指の消毒や密の回避、マスクの着用等ご協力をお願いします。\n\n※広島市に気象警報等発令の場合は臨時閉園となり、研修会も中止します。\n\n森づくりポイント、高齢者いきいき活動ポイント（1ポイント）対象イベントです。\n\n年間行事計画…「★令和3年度行事・イベント一覧表」をご覧ください。
URL:https://ryokka-c.jp/info2/calendar/3%e6%9c%88%e3%81%ae%e8%87%aa%e7%84%b6%e6%8e%a2%e5%8b%9d%ef%bd%9e%e6%97%a9%e6%98%a5%e3%81%ae%e6%81%af%e5%90%b9%e3%80%81%e6%a8%b9%e6%9c%a8%e3%81%ae%e5%86%ac%e8%8a%bd%e3%81%a8%e8%8d%89%e8%8a%b1%e3%81%ae/
CATEGORIES:研修会
END:VEVENT
BEGIN:VEVENT
DTSTART;VALUE=DATE:20220318
DTEND;VALUE=DATE:20220318
DTSTAMP:20260423T222523
CREATED:20220113T063757Z
LAST-MODIFIED:20220113T063757Z
UID:10956-1647561600-1647647999@ryokka-c.jp
SUMMARY:シダの学習会～園内のシダ植物を観察しよう！～（自由参加）
DESCRIPTION:【研修名】　シダの学習会～園内のシダ植物を観察しよう！～\n\n【日　時】　3月18日(金)　13:30～15:00\n\n【内　容】　散策路を歩きながらシダ植物を観察します\n\n【集　合】　学習室\n\n【コーディネーター】　駄賀　恒男　先生\n\n【詳　細】　自由参加　無料　ルーペ持参\n\n\n\n※新型コロナウイルス感染拡大防止の為、状況によっては研修内容の変更や開催を中止する事があります。\n\n※感染防止対策として、手指の消毒や密の回避、マスクの着用等ご協力をお願いします。\n\n※広島市に気象警報等発令の場合は臨時閉園となり、研修会も中止します。\n\n森づくりポイント、高齢者いきいき活動ポイント（1ポイント）対象イベントです。\n\n年間行事計画…「★令和3年度行事・イベント一覧表」をご覧ください。
URL:https://ryokka-c.jp/info2/calendar/%e3%82%b7%e3%83%80%e3%81%ae%e5%ad%a6%e7%bf%92%e4%bc%9a%ef%bd%9e%e5%9c%92%e5%86%85%e3%81%ae%e3%82%b7%e3%83%80%e6%a4%8d%e7%89%a9%e3%82%92%e8%a6%b3%e5%af%9f%e3%81%97%e3%82%88%e3%81%86%ef%bc%81%ef%bd%9e/
CATEGORIES:研修会
END:VEVENT
END:VCALENDAR