BEGIN:VCALENDAR
VERSION:2.0
PRODID:-//広島県緑化センター - ECPv4.4.5//NONSGML v1.0//EN
CALSCALE:GREGORIAN
METHOD:PUBLISH
X-WR-CALNAME:広島県緑化センター
X-ORIGINAL-URL:https://ryokka-c.jp/info2
X-WR-CALDESC:Events for 広島県緑化センター
BEGIN:VEVENT
DTSTART;VALUE=DATE:20220401
DTEND;VALUE=DATE:20220531
DTSTAMP:20260423T210957
CREATED:20220215T064551Z
LAST-MODIFIED:20220318T013136Z
UID:10994-1648771200-1654041599@ryokka-c.jp
SUMMARY:広島県緑化センターInstagramフォトコンテスト2022春
DESCRIPTION:\n\n \n\n広島県緑化センターで撮影した冬～春の写真を募集します！\n\n \n\n応募要項はこちら（PDF）新しいタブで開きます\n\n \n\n【募集期間】2022年4月1日(金)～5月31日(火)\n\n \n\n【応募の方法はカンタン！】\n\n①まずはこちらから応募要項をご確認ください(PDF)新しいタブで開きます\n\n②Instagramで広島県緑化センター(＠kanriryokka)のアカウントをフォロー\n\n③Instagramから園内で撮影した写真をハッシュタグ（ #広島県緑化センターフォトコン2022春）をつけて投稿\n\n \n\n写真はおひとり5点まで応募可能です。\n\n \n\nグランプリにはなんと！1万円分のギフトカードをプレゼントします！（グランプリの他、各賞を予定しています）\n\n \n\n2021年春の入賞作品はこちら（新しいタブで開きます）\n\n2021年秋の入賞作品はこちら（新しいタブで開きます）\n\n \n\n広島県緑化センターの魅力あふれる(映える)1枚をお待ちしています！\n\n \n\n※応募要項を必ずお読みいただき、投稿方法や注意事項をご確認ください。\n\n※ハッシュタグの間違いが無いよう投稿前に再度ご確認ください。\n\n※他の写真コンテスト等に応募された作品は審査対象となりません。（他のコンテストの応募用ハッシュタグがついている場合も審査対象になりません。）\n\n※広島県緑化センターの公園ルールを破って撮影した作品は審査対象になりません。（わんこひろば以外でのノーリードの犬の写真、進入禁止場所での撮影、開園時間外の撮影など）\n\n \n\n広島県緑化センターInstagram公式アカウント\n\n[caption id="attachment_9473" align="alignnone" width="150"] 公式アカウントネームタグ[/caption]\n\n[caption id="attachment_9472" align="alignnone" width="135"] 公式アカウント[/caption]\n\nプライバシーポリシーについてはこちらをご覧ください（新しいタブで開きます）\n
URL:https://ryokka-c.jp/info2/calendar/instagram-photocon-spring/
CATEGORIES:イベント
END:VEVENT
BEGIN:VEVENT
DTSTART;VALUE=DATE:20220412
DTEND;VALUE=DATE:20220425
DTSTAMP:20260423T210957
CREATED:20220415T003007Z
LAST-MODIFIED:20220415T031916Z
UID:10786-1649721600-1650931199@ryokka-c.jp
SUMMARY:赤ちゃんとママの手形アート
DESCRIPTION:ベビーサイン講師の川口美保さんによる、赤ちゃんの手形アートによる作品の展示です。\n期間：4/12(火)～4/25(月)\n時間：10:00～16:00\n場所：レストハウス　ガラスケース展示（入場無料）
URL:https://ryokka-c.jp/info2/calendar/tegataa-to/
CATEGORIES:展示会
END:VEVENT
BEGIN:VEVENT
DTSTART;VALUE=DATE:20220424
DTEND;VALUE=DATE:20220424
DTSTAMP:20260423T210957
CREATED:20220426T012033Z
LAST-MODIFIED:20220427T050735Z
UID:11063-1650758400-1650844799@ryokka-c.jp
SUMMARY:ユキモチソウを育てよう（要予約）
DESCRIPTION:【研修名】　ユキモチソウを育てよう\n\n【日　時】　4月24日(日)　10:00～12:00\n\n【内　容】　ユキモチソウについて学んだ後、実践して持ち帰ります\n\n【集　合】　学習室\n\n【講　師】　森林インストラクター　長井　稔　先生\n\n【詳　細】　要予約先着15名　材料費1\,500円\n\n\n\n※予約開始は3月1日からです。管理事務所窓口か、お電話(082-899-2811)でご予約ください。\n\n※新型コロナウイルス感染拡大防止の為、状況によっては研修内容の変更や開催を中止する事があります。\n\n※感染防止対策として、手指の消毒や密の回避、マスクの着用等ご協力をお願いします。\n\n※広島市に気象警報等発令の場合は臨時閉園となり、研修会も中止します。\n\n高齢者いきいき活動ポイント（1ポイント）対象イベントです。
URL:https://ryokka-c.jp/info2/calendar/%e3%83%a6%e3%82%ad%e3%83%a2%e3%83%81%e3%82%bd%e3%82%a6%e3%82%92%e8%82%b2%e3%81%a6%e3%82%88%e3%81%86%ef%bc%88%e8%a6%81%e4%ba%88%e7%b4%84%ef%bc%89/
CATEGORIES:研修会
END:VEVENT
END:VCALENDAR