BEGIN:VCALENDAR
VERSION:2.0
PRODID:-//広島県緑化センター - ECPv4.4.5//NONSGML v1.0//EN
CALSCALE:GREGORIAN
METHOD:PUBLISH
X-WR-CALNAME:広島県緑化センター
X-ORIGINAL-URL:https://ryokka-c.jp/info2
X-WR-CALDESC:Events for 広島県緑化センター
BEGIN:VEVENT
DTSTART;VALUE=DATE:20220703
DTEND;VALUE=DATE:20220830
DTSTAMP:20260423T171327
CREATED:20220523T020303Z
LAST-MODIFIED:20220523T021014Z
UID:11576-1656806400-1661903999@ryokka-c.jp
SUMMARY:布あそびキルトサークル ミニ作品展
DESCRIPTION:【展示名】 布あそびキルトサークル ミニ作品展\n \n\n【期間】\n\nサンリブカルチャー可部教室作品展　7/3(日)～7/31(日)（※休園日を除く）\n\nサンリブカルチャー府中教室作品展　8/3(水)～8/30(火)（※休園日を除く）\n\n【内容】手芸作品展示\n\n【時間】9:00～16:00\n\n【会場】レストハウス（入場無料）
URL:https://ryokka-c.jp/info2/calendar/%e5%b8%83%e3%81%82%e3%81%9d%e3%81%b3%e3%82%ad%e3%83%ab%e3%83%88%e3%82%b5%e3%83%bc%e3%82%af%e3%83%ab-%e3%83%9f%e3%83%8b%e4%bd%9c%e5%93%81%e5%b1%95/
CATEGORIES:展示会
END:VEVENT
BEGIN:VEVENT
DTSTART;VALUE=DATE:20220718
DTEND;VALUE=DATE:20220718
DTSTAMP:20260423T171327
CREATED:20220517T031047Z
LAST-MODIFIED:20220720T040532Z
UID:11492-1658102400-1658188799@ryokka-c.jp
SUMMARY:藍のトントン染め～藍の生葉をたたいてハンカチを染めよう～（※キャンセル待ち）
DESCRIPTION:【研修名】　藍のトントン染め～藍の生葉をたたいてハンカチを染めよう～\n\n【日　時】　7月18日(月祝)　10:00～12:00\n\n【内　容】　藍染について学び、トントン染めを実践します\n\n【集　合】　学習室\n\n【講　師】　サイエンスインストラクター　山縣　圭子　先生\n\n【詳　細】　要予約先着10組　材料費500円\n\n \n\n　\n\n \n\n※予約が定員に達しましたので、現在キャンセル待ちです。\n\n \n\n※予約開始は6月1日からです。管理事務所窓口か、お電話(082-899-2811)でご予約ください。\n\n※新型コロナウイルス感染拡大防止の為、状況によっては研修内容の変更や開催を中止する事があります。\n\n※感染防止対策として、手指の消毒や密の回避、マスクの着用等ご協力をお願いします。\n\n※広島市に気象警報等発令の場合は臨時閉園となり、研修会も中止します。\n\n高齢者いきいき活動ポイント（1ポイント）対象イベントです。\n\n年間行事計画…申請書、その他から「★令和4年度行事・イベント一覧表」をご覧ください。
URL:https://ryokka-c.jp/info2/calendar/%e8%97%8d%e3%81%ae%e3%83%88%e3%83%b3%e3%83%88%e3%83%b3%e6%9f%93%e3%82%81%ef%bd%9e%e8%97%8d%e3%81%ae%e7%94%9f%e8%91%89%e3%82%92%e3%81%9f%e3%81%9f%e3%81%84%e3%81%a6%e3%83%8f%e3%83%b3%e3%82%ab%e3%83%81/
CATEGORIES:研修会
END:VEVENT
END:VCALENDAR