BEGIN:VCALENDAR
VERSION:2.0
PRODID:-//広島県緑化センター - ECPv4.4.5//NONSGML v1.0//EN
CALSCALE:GREGORIAN
METHOD:PUBLISH
X-WR-CALNAME:広島県緑化センター
X-ORIGINAL-URL:https://ryokka-c.jp/info2
X-WR-CALDESC:Events for 広島県緑化センター
BEGIN:VEVENT
DTSTART;VALUE=DATE:20221001
DTEND;VALUE=DATE:20221130
DTSTAMP:20260423T121910
CREATED:20221001T000459Z
LAST-MODIFIED:20221006T065615Z
UID:10562-1664582400-1669852799@ryokka-c.jp
SUMMARY:広島県緑化センターInstagramフォトコンテスト2022秋
DESCRIPTION:\n\n広島県緑化センターで撮影した夏～秋の写真を募集します。\n\n \n\n応募要項はこちら（PDF）\n\n \n\n【募集期間】10月1日(土)～11月30日(水)\n\n【応募の方法はかんたん！】\n\n①まずはこちらから応募要項をご確認ください(PDF)\n\n②Instagramで広島県緑化センターのアカウントをフォロー\n\n③Instagramから園内で撮影した写真をハッシュタグ（ #広島県緑化センターフォトコン2022秋）をつけて投稿\n\n写真はおひとり5点まで応募可能です.\n\nグランプリにはなんと！1万円分のギフトカードをプレゼントします！（グランプリの他、各賞を予定しています）\n\n広島県緑化センターの魅力あふれる(映える)1枚をお待ちしています！\n\n \n\n※応募要項を必ずお読みいただき、投稿方法や注意事項をご確認ください。\n\n※誤って6枚以上投稿された場合には最初の5枚を応募作品とします。\n\n※ハッシュタグの間違いが無いよう投稿前に再度ご確認ください。\n\n※他の写真コンテスト等に応募された作品は審査対象となりません。（他のコンテストの応募用ハッシュタグがついている場合も審査対象になりません。）\n\n※広島県緑化センターの公園ルールを破って撮影した作品は審査対象になりません。（わんこひろば以外でのノーリードの犬の写真、進入禁止場所での撮影、開園時間外の撮影など）\n\n \n\n【過去の入賞作品はこちらからご覧いただけます】\n\n2022春\n\n2021秋　2021春\n\n2020春秋\n\n2019秋　2019春\n\n2018　2017\n\n \n\n \n\n広島県緑化センターInstagram公式アカウント\n\n[caption id="attachment_9473" align="alignnone" width="150"] 公式アカウントネームタグ[/caption]\n\n \n\n[caption id="attachment_9472" align="alignnone" width="135"] 公式アカウント[/caption]\n\nプライバシーポリシーについてはこちらをご覧ください（新しいタブで開きます）\n
URL:https://ryokka-c.jp/info2/calendar/instagram-photocon-autum/
CATEGORIES:イベント
END:VEVENT
BEGIN:VEVENT
DTSTART;VALUE=DATE:20221022
DTEND;VALUE=DATE:20221113
DTSTAMP:20260423T121910
CREATED:20221008T235059Z
LAST-MODIFIED:20221018T004454Z
UID:10576-1666396800-1668383999@ryokka-c.jp
SUMMARY:もみじ祭り2022
DESCRIPTION:もみじ祭り期間中は、県内ではなかなか見られないハナノキや、シンボルツリーのオオモミジ、イロハモミジのトンネルなど園内各所でさまざまな紅葉が楽しめます。【もみじ祭りチラシ(PDF)】\n\n\n\n \n\n\n\n園内の紅葉の詳細は【紅葉マップ（PDF）】をご覧ください。\n\n\n\n今の紅葉についてはこちらの【紅葉情報ページ】をご覧ください。\n\nまた、期間中は紅葉クイズラリーに挑戦できます！\n\n11月の土日祝日は、一部車両通行規制を実施しています。\nご理解ご協力のほどよろしくお願いいたします。【詳細はこちら】\n\nわんこひろば利用中止日　11月6日（日）※詳しくはこちらから\n\n \n\n \n\n【期間中のイベント】↓　↓　↓　↓　↓　↓　↓（リンク先ページへ移動します）\n\n「広島県緑化センターInstagramフォトコンテスト2022秋」応募期間：10月1日～11月30日\n\n「第12回 ひろしま遊学の森 こども写生大会」10月29日(土)\n\n「第6回 ひろしま遊学の森 四季の移ろい 写真コンテスト」応募期間：11月30日まで\n\n「ひろしま遊学の森スタンプラリー2022秋」\n\n「ノルディックウォーク体験会」　11月3日（木祝）\n\n※感染防止対策として、手指の消毒や密の回避等ご協力をお願いします。\n\n※広島市に気象警報等発令の場合は臨時閉園となり、イベント等も中止となります。\n\n※新型コロナウイルスの感染状況によってはイベント等が中止となる場合があります。\n\n \n\n緑化センターの紅葉が全国紅葉情報ポータルサイトウォーカープラスに掲載されました！\n\n\n\nこちらからご覧ください！\n\n \n\n！！！！　もみじ祭りお楽しみイベント情報　！！！！\n\n \n\n11月3日（木祝）は、レストハウス駐車場にて\n\n『もみじ祭りお楽しみイベント』\n\nを開催します。\n\nどんぐりを見分けよう、ネイチャーゲーム、\n\nノルディックウォーク体験会、スタンプラリーなどのイベントブースや、\n\n草花販売、キッチンカーの出店もあります。\n\nご家族で楽しめる催しを準備しています。\n\n紅葉を見ながら緑化センターを満喫してください！\n\n \n\n \n\n \n\n☆☆☆☆☆☆☆☆☆☆　過去のもみじ祭りお楽しみイベントの様子☆☆☆☆☆☆☆☆☆☆\n\n \n\n    　\n\n 
URL:https://ryokka-c.jp/info2/calendar/momiji_festival_2021/
CATEGORIES:イベント
END:VEVENT
BEGIN:VEVENT
DTSTART;VALUE=DATE:20221103
DTEND;VALUE=DATE:20221103
DTSTAMP:20260423T121910
CREATED:20221030T002044Z
LAST-MODIFIED:20221104T002536Z
UID:8525-1667433600-1667519999@ryokka-c.jp
SUMMARY:もみじ祭り2022  お楽しみイベント
DESCRIPTION:\n\n紅葉狩りしながら、家族みんなで楽しもう！\n\n日時▶2022年11月3日（木祝）10:00～15:00\n\n場所▶レストハウス前　ほか\n\n駐車場▶多目的広場臨時駐車場をご利用ください。（レストハウス前は駐車できません）\n\n内容▶ 紅葉クイズラリー・ひろしま遊学の森スタンプラリー・草花販売・どんぐりを見分けよう・ネイチャーゲーム・ノルディックウォーク体験会・キッチンカー（3丁目のたこボール・檸檬の樹）他\n\n[caption id="attachment_11856" align="alignnone" width="212"] 紅葉マップ2022チラシ・紅葉マップ[/caption]\n\n注意▶ 当日は園内車両通行規制を行います。詳しくはこちらから\n\n \n\n[caption id="attachment_11858" align="alignnone" width="300"] 紅葉マップ[/caption]\n\n \n\n \n\n 
URL:https://ryokka-c.jp/info2/calendar/momiji-otanosimi/
CATEGORIES:イベント
END:VEVENT
END:VCALENDAR