BEGIN:VCALENDAR
VERSION:2.0
PRODID:-//広島県緑化センター - ECPv4.4.5//NONSGML v1.0//EN
CALSCALE:GREGORIAN
METHOD:PUBLISH
X-WR-CALNAME:広島県緑化センター
X-ORIGINAL-URL:https://ryokka-c.jp/info2
X-WR-CALDESC:Events for 広島県緑化センター
BEGIN:VEVENT
DTSTART;VALUE=DATE:20230410
DTEND;VALUE=DATE:20230410
DTSTAMP:20260421T061522
CREATED:20230329T040159Z
LAST-MODIFIED:20230413T040107Z
UID:11065-1681084800-1681171199@ryokka-c.jp
SUMMARY:早春の写真教室（要予約）
DESCRIPTION:\n\n【研修名】　早春の写真教室\n\n【日　時】　4月10日(月)　10:00～12:00\n\n【内　容】　散策路を歩きながら植物の撮影について学びます\n\n【集　合】　学習室\n\n【講　師】　二科会会員　宗岡　泰昭　先生\n\n【詳　細】　要予約先着15名　無料　カメラ持参　荒天中止\n\n※予約開始は3月1日からです。管理事務所窓口か、お電話(082-899-2811)でご予約ください。\n\n※新型コロナウイルス感染拡大防止の為、状況によっては研修内容の変更や開催を中止する事があります。\n\n※感染防止対策として、手指の消毒や密の回避、マスクの着用等ご協力をお願いします。\n\n※広島市に気象警報等発令の場合は臨時閉園となり、研修会も中止します。\n\n高齢者いきいき活動ポイント（1ポイント）対象イベントです。
URL:https://ryokka-c.jp/info2/calendar/soushunnoshashinkyoshitsu/
CATEGORIES:研修会
END:VEVENT
END:VCALENDAR