BEGIN:VCALENDAR
VERSION:2.0
PRODID:-//広島県緑化センター - ECPv4.4.5//NONSGML v1.0//EN
CALSCALE:GREGORIAN
METHOD:PUBLISH
X-WR-CALNAME:広島県緑化センター
X-ORIGINAL-URL:https://ryokka-c.jp/info2
X-WR-CALDESC:Events for 広島県緑化センター
BEGIN:VEVENT
DTSTART;VALUE=DATE:20230513
DTEND;VALUE=DATE:20230513
DTSTAMP:20260421T050447
CREATED:20230413T081916Z
LAST-MODIFIED:20230514T021404Z
UID:11201-1683936000-1684022399@ryokka-c.jp
SUMMARY:春のバードウォッチング（自由参加）
DESCRIPTION:【研修名】　春のバードウォッチング\n\n【日　時】　5月13日(土)　10:00～12:00\n\n【内　容】　散策路を歩きながら野鳥を観察します\n\n【集　合】　学習展示館前\n\n【講　師】　日本鳥類保護連盟三次地方分会事務局長　衛藤　慎也　先生\n\n【詳　細】　自由参加　無料　双眼鏡持参　荒天中止\n\n\n\n※新型コロナウイルス感染拡大防止の為、状況によっては研修内容の変更や開催を中止する事があります。\n\n※感染防止対策として、手指の消毒や密の回避、マスクの着用等ご協力をお願いします。\n\n※広島市に気象警報等発令の場合は臨時閉園となり、研修会も中止します。\n\n高齢者いきいき活動ポイント（1ポイント）対象イベントです。
URL:https://ryokka-c.jp/info2/calendar/spring-bird-watching/
CATEGORIES:研修会
END:VEVENT
END:VCALENDAR