BEGIN:VCALENDAR
VERSION:2.0
PRODID:-//広島県緑化センター - ECPv4.4.5//NONSGML v1.0//EN
CALSCALE:GREGORIAN
METHOD:PUBLISH
X-WR-CALNAME:広島県緑化センター
X-ORIGINAL-URL:https://ryokka-c.jp/info2
X-WR-CALDESC:Events for 広島県緑化センター
BEGIN:VEVENT
DTSTART;VALUE=DATE:20230514
DTEND;VALUE=DATE:20230514
DTSTAMP:20260421T050416
CREATED:20230504T011203Z
LAST-MODIFIED:20230514T021420Z
UID:11009-1684022400-1684108799@ryokka-c.jp
SUMMARY:第13回 ひろしま遊学の森 こども写生大会（自由参加）
DESCRIPTION:\n\n【研修名】第13回 ひろしま遊学の森 こども写生大会\n\n【日時】　5月14日(日)　10:00～12:00    ※雨天の場合は室内で行います。\n\n【集合】　学習室\n\n交通アクセスはこちら　（新しいタブで開きます）\n\n【料金】　参加無料（入園料・駐車場無料）\n\n【内容】　園内で自由に絵を描きます。\n\n10:00～　開会（描き方のコツ・エリア・時間割の説明）\n10:30～　写生開始（徒歩またはお車で移動）\n12:00～　学習室へ戻り作品提出（各自終了次第、12時より早くてもOK）\n\n【対象】　小学生以下　(審査対象外になりますが、親御さんを含め、中学生以上も参加できます）\n\n【講師】　元 中国新聞社図画教室指導審査員　横山 直江 先生（著書：「空を見上げて」，画文集「季の花」，画文集「魔女の野あそび教室」）\n\n【詳細】　自由参加　無料　画材持参（画用紙以外）\n\n【用紙規格】　四つ切画用紙（392×542mm）こちらで用意します\n\n【画材】　規定はありません（※絵具、クレヨンがおすすめです）貸出はありません\n\n【持ち物】　画板、画材（絵の具やクレヨン等，パレット，筆洗いバケツ，ぞうきん他），帽子，傘，レジャーシート，防寒着，虫よけグッズ 他\n\n【賞】　最優秀賞，他各賞を予定　　絵を描いた方には参加賞があります！\n\n【作品展示予定】\n6/6（木）～7/5（水）全作品展示　　場所：広島県緑化センターレストハウス\n7/8（土）～8/8（火）入賞作品展示　 場所：広島市森林公園管理センター\n\n前回の作品はこちらからご覧いただけます。\n\n第12回こども写生大会入賞作品\n\n \n\n\n\n【注意事項】\n・貴重品はご自身での管理をお願いします。\n・広島市に気象警報等発令の場合は閉園となり、当イベントも中止となります。\n・各種状況によっては、内容の変更や中止となる場合があります。当公式サイトやSNS、お電話等で最新の情報をご確認ください。\n・一部園路は車両が通行します。描画の際は、安全が確保できる場所をお選びください。\n・当園は山の中に位置する自然の公園です。様々な生き物や植物があり、中には危険な動植物も見られます。また、急な天候の変化が起きる可能性もあります。十分に注意してください。事故やお怪我等ありましたら、管理事務所（082-899-2811）までご連絡ください。
URL:https://ryokka-c.jp/info2/calendar/child-sketch_5gatsu/
CATEGORIES:イベント,研修会
END:VEVENT
END:VCALENDAR