BEGIN:VCALENDAR
VERSION:2.0
PRODID:-//広島県緑化センター - ECPv4.4.5//NONSGML v1.0//EN
CALSCALE:GREGORIAN
METHOD:PUBLISH
X-WR-CALNAME:広島県緑化センター
X-ORIGINAL-URL:https://ryokka-c.jp/info2
X-WR-CALDESC:Events for 広島県緑化センター
BEGIN:VEVENT
DTSTART;VALUE=DATE:20230517
DTEND;VALUE=DATE:20230517
DTSTAMP:20260421T050037
CREATED:20230511T015923Z
LAST-MODIFIED:20230517T081015Z
UID:11223-1684281600-1684367999@ryokka-c.jp
SUMMARY:コケの観察会～コケも草木も同じ社会～（自由参加）
DESCRIPTION:【研修名】　コケの観察会～コケも草木も同じ社会～\n\n【日　時】　5月17日(水)　10:00～12:00\n\n【内　容】　室内で基本を学び、屋外で観察します\n\n【集　合】　学習室\n\n【講　師】　広島大学名誉教授　関　太郎　先生\n\n【詳　細】　自由参加　無料　ルーペ持参　荒天中止\n\n\n\n \n\n※広島市に気象警報等発令の場合は臨時閉園となり、研修会も中止します。\n\n高齢者いきいき活動ポイント（1ポイント）対象イベントです。\n\n年間行事計画…申請書、その他から「★令和4年度行事・イベント一覧表」をご覧ください。
URL:https://ryokka-c.jp/info2/calendar/kokenokansatsukai_5gatsu/
CATEGORIES:研修会
END:VEVENT
END:VCALENDAR