BEGIN:VCALENDAR
VERSION:2.0
PRODID:-//広島県緑化センター - ECPv4.4.5//NONSGML v1.0//EN
CALSCALE:GREGORIAN
METHOD:PUBLISH
X-WR-CALNAME:広島県緑化センター
X-ORIGINAL-URL:https://ryokka-c.jp/info2
X-WR-CALDESC:Events for 広島県緑化センター
BEGIN:VEVENT
DTSTART;VALUE=DATE:20230604
DTEND;VALUE=DATE:20230604
DTSTAMP:20260421T034238
CREATED:20230122T042523Z
LAST-MODIFIED:20230516T011039Z
UID:11372-1685836800-1685923199@ryokka-c.jp
SUMMARY:森の体験（自由参加）
DESCRIPTION:【研修名】　森の体験\n\n【日　時】　6月4日(日)10:00～15:00\n\n【内　容】　木の実や木片を使った工作、丸太切り体験等\n\n【集　合】　レストハウス前\n\n【講　師】　緑化センターボランティア　ふれあい湧\n\n【詳　細】　自由参加（随時受付）　材料費100円　※荒天中止\n\n \n\n \n\n※広島市に気象警報等発令の場合は臨時閉園となり、研修会も中止します。\n\n高齢者いきいき活動ポイント（1ポイント）対象イベントです。\n\n \n\n年間行事計画。
URL:https://ryokka-c.jp/info2/calendar/morinotaiken_fureai_yamanohi/
CATEGORIES:イベント,研修会
END:VEVENT
BEGIN:VEVENT
DTSTART;VALUE=DATE:20230604
DTEND;VALUE=DATE:20230604
DTSTAMP:20260421T034238
CREATED:20230527T045324Z
LAST-MODIFIED:20230704T080933Z
UID:11524-1685836800-1685923199@ryokka-c.jp
SUMMARY:ひろしま「山の日」県民の集い（緑化センター会場）
DESCRIPTION:広島県は6月の第1日曜をひろしま「山の日」としています。\n\n広島県内11市町、12カ所の会場で森林や山をよくしていく運動のきっかけづくりとして、実体感型の多彩なプログラムを取り入れたひろしま「山の日」県民の集いが行われる予定です。\n\n \n\n広島県緑化センターで体験できるプログラムはこちら\n\n \n\n●山の手入れ\n\n時間：10:00～12:00\n\n内容：山で枯損木・支障木の伐倒棚積み等を手ノコを使用して行います。\n\n予約方法：広島県緑化センター（082-899-2811）までお電話ください。\n\n \n\n●森の体験\n\n時間：10:00～15:00\n\n内容：木の実や木片を使った工作、丸太切り体験等\n\n場所：レストハウス前\n\n詳細：自由参加（随時受付）　材料費100円　※荒天中止\n\n \n\n●ネイチャーゲーム\n\n時間：10:00～15:00\n\n内容：自然の中での遊びを体験します\n\n場所：レストハウス前\n\n詳細：自由参加（随時受付）　無料　※荒天中止
URL:https://ryokka-c.jp/info2/calendar/yamanohi_hiroshima/
CATEGORIES:イベント
END:VEVENT
END:VCALENDAR