BEGIN:VCALENDAR
VERSION:2.0
PRODID:-//広島県緑化センター - ECPv4.4.5//NONSGML v1.0//EN
CALSCALE:GREGORIAN
METHOD:PUBLISH
X-WR-CALNAME:広島県緑化センター
X-ORIGINAL-URL:https://ryokka-c.jp/info2
X-WR-CALDESC:Events for 広島県緑化センター
BEGIN:VEVENT
DTSTART;VALUE=DATE:20230611
DTEND;VALUE=DATE:20230611
DTSTAMP:20260421T034442
CREATED:20230603T080814Z
LAST-MODIFIED:20230623T230753Z
UID:11380-1686441600-1686527999@ryokka-c.jp
SUMMARY:6月の自然探勝（自由参加）
DESCRIPTION:【研修名】　6月の自然探勝\n\n【日　時】　6月11日(日)　10:00～12:00\n\n【内　容】　散策路を歩きながら植物を観察します\n\n【集　合】　学習展示館前　多目的広場\n\n【講　師】　環境カウンセラー・自然観察指導員　和田　秀次　先生\n\n【詳　細】　自由参加　無料　※荒天中止\n\n\n\n \n\n \n\n※広島市に気象警報等発令の場合は臨時閉園となり、研修会も中止します。\n\n高齢者いきいき活動ポイント（1ポイント）対象イベントです。\n\n \n\n年間行事計画
URL:https://ryokka-c.jp/info2/calendar/shizentansho_6gatsu/
CATEGORIES:研修会
END:VEVENT
END:VCALENDAR