BEGIN:VCALENDAR
VERSION:2.0
PRODID:-//広島県緑化センター - ECPv4.4.5//NONSGML v1.0//EN
CALSCALE:GREGORIAN
METHOD:PUBLISH
X-WR-CALNAME:広島県緑化センター
X-ORIGINAL-URL:https://ryokka-c.jp/info2
X-WR-CALDESC:Events for 広島県緑化センター
BEGIN:VEVENT
DTSTART;VALUE=DATE:20230625
DTEND;VALUE=DATE:20230625
DTSTAMP:20260421T034407
CREATED:20230503T013457Z
LAST-MODIFIED:20230516T011431Z
UID:8032-1687651200-1687737599@ryokka-c.jp
SUMMARY:梅雨のきのこ入門観察会（※受付終了※）
DESCRIPTION:※定員になりましたので、受付を終了いたします。\n\n【研修名】　梅雨のきのこ入門観察会\n\n【日時】　6月25日(日)　10:00～12:00\n\n【集合】　学習展示館前\n\n【内容】　講師と一緒に渓流路を散策しながら発生しているきのこの説明を聞きます\n\n【講師】　きのこアドバイザー　川上　嘉章 　先生\n\n【詳細】　要予約先着15名　　無料　　長ズボン、靴を着用\n\n \n※予約は5/1～開始です。管理事務所窓口か、お電話でご予約ください。\n\n広島市高齢者いきいき活動ポイント（1ポイント）対象イベントです。\n\n\n\n年間行事計画
URL:https://ryokka-c.jp/info2/calendar/tusyunokinokokansatukai/
CATEGORIES:研修会
END:VEVENT
END:VCALENDAR