BEGIN:VCALENDAR
VERSION:2.0
PRODID:-//広島県緑化センター - ECPv4.4.5//NONSGML v1.0//EN
CALSCALE:GREGORIAN
METHOD:PUBLISH
X-WR-CALNAME:広島県緑化センター
X-ORIGINAL-URL:https://ryokka-c.jp/info2
X-WR-CALDESC:Events for 広島県緑化センター
BEGIN:VEVENT
DTSTART;VALUE=DATE:20230716
DTEND;VALUE=DATE:20230716
DTSTAMP:20260421T022611
CREATED:20230701T000911Z
LAST-MODIFIED:20230701T012247Z
UID:11487-1689465600-1689551999@ryokka-c.jp
SUMMARY:夏休み昆虫教室（受付終了）
DESCRIPTION:【研修名】　夏休み昆虫教室～園内の昆虫を採集しよう～\n\n【日　時】　7月16日(日)　10:00～12:00\n\n【内　容】　昆虫の生態や採集方法などを学び、屋外で採集します\n\n【集　合】　学習室\n\n【講　師】　技術士（環境部門）　亀山　剛　先生\n\n【詳　細】　要予約先着30名　無料　採集用具持参\n\n\n\n※予約開始は6月1日からです。管理事務所窓口か、お電話(082-899-2811)でご予約ください。\n\n \n\n※広島市に気象警報等発令の場合は臨時閉園となり、研修会も中止します。\n\n高齢者いきいき活動ポイント（1ポイント）対象イベントです。\n\n年間行事計画
URL:https://ryokka-c.jp/info2/calendar/natsuyasumikonchukyoshitsu/
CATEGORIES:イベント,研修会
END:VEVENT
BEGIN:VEVENT
DTSTART;VALUE=DATE:20230716
DTEND;VALUE=DATE:20230716
DTSTAMP:20260421T022611
CREATED:20230704T080509Z
LAST-MODIFIED:20230830T082452Z
UID:11481-1689465600-1689551999@ryokka-c.jp
SUMMARY:夏休み自由工作塾（自由参加）
DESCRIPTION:【研修名】　夏休み自由工作塾\n\n【日　時】　7月16日(日)　10:00～15:00\n\n【内　容】　木の実や木の枝を使って自由に作品を作ります\n\n【集　合】　レストハウス裏庭\n\n【講　師】　緑化センターボランティア　ふれあい湧\n\n【詳　細】　自由参加（随時受付）　材料費100円　※荒天中止\n\n\n\n \n\n \n\n※広島市に気象警報等発令の場合は臨時閉園となり、研修会も中止します。\n\n高齢者いきいき活動ポイント（1ポイント）対象イベントです。\n\n年間行事計画
URL:https://ryokka-c.jp/info2/calendar/natsuyasumijiyukosaku_1/
CATEGORIES:イベント,研修会
END:VEVENT
END:VCALENDAR