BEGIN:VCALENDAR
VERSION:2.0
PRODID:-//広島県緑化センター - ECPv4.4.5//NONSGML v1.0//EN
CALSCALE:GREGORIAN
METHOD:PUBLISH
X-WR-CALNAME:広島県緑化センター
X-ORIGINAL-URL:https://ryokka-c.jp/info2
X-WR-CALDESC:Events for 広島県緑化センター
BEGIN:VEVENT
DTSTART;VALUE=DATE:20230717
DTEND;VALUE=DATE:20230717
DTSTAMP:20260421T022416
CREATED:20230623T231235Z
LAST-MODIFIED:20230623T231243Z
UID:8134-1689552000-1689638399@ryokka-c.jp
SUMMARY:藍のトントン染め（キャンセル待ち）
DESCRIPTION:※現在予約定員に達しているため、キャンセル待ちです。\n\n \n\n \n\n【研修名】藍のトントン染め　～藍の生葉をたたいてハンカチを染めよう～\n\n【日時】　7月17日(月祝)　10:00～12:00\n\n【集合】　学習室\n\n【内容】　藍の生葉をトントンたたいてハンカチを染めよう\n\n【講師】　サイエンスインストラクター　山縣　圭子　 先生\n\n【詳細】　要予約先着10組　材料費500円　マスク着用\n\n※予約開始は6/1からです。管理事務所窓口か、お電話でご予約ください。\n\n \n\n広島市高齢者いきいき活動ポイント（1ポイント）対象イベントです。\n\n \n\n年間行事計画
URL:https://ryokka-c.jp/info2/calendar/ainotonntonnzome/
CATEGORIES:イベント,研修会
END:VEVENT
END:VCALENDAR