BEGIN:VCALENDAR
VERSION:2.0
PRODID:-//広島県緑化センター - ECPv4.4.5//NONSGML v1.0//EN
CALSCALE:GREGORIAN
METHOD:PUBLISH
X-WR-CALNAME:広島県緑化センター
X-ORIGINAL-URL:https://ryokka-c.jp/info2
X-WR-CALDESC:Events for 広島県緑化センター
BEGIN:VEVENT
DTSTART;VALUE=DATE:20230720
DTEND;VALUE=DATE:20230830
DTSTAMP:20260421T022611
CREATED:20230531T020705Z
LAST-MODIFIED:20230531T020909Z
UID:12580-1689811200-1693439999@ryokka-c.jp
SUMMARY:琉球紅型染め　作品展
DESCRIPTION:内容：　500年の歴史、日本を代表する沖縄の染物　紅型染めの小物作品の展示\n\n期間：　7/20(木）～8/30(水)　　※休園日を除く\n\n時間：　9:00～16:00\n\n開催場所：　レストハウス　ガラスケース展示\n\n \n\n \n\n\n\n講師　上園　瑞代　先生【瑞染会主催】\n\nNHKカルチャー広島教室の講師として30年勤務\n\n(こちらは作品の一部です)
URL:https://ryokka-c.jp/info2/calendar/%e7%90%89%e7%90%83%e7%b4%85%e5%9e%8b%e6%9f%93%e3%82%81%e3%80%80%e4%bd%9c%e5%93%81%e5%b1%95/
CATEGORIES:展示会
END:VEVENT
BEGIN:VEVENT
DTSTART;VALUE=DATE:20230723
DTEND;VALUE=DATE:20230723
DTSTAMP:20260421T022611
CREATED:20230601T031147Z
LAST-MODIFIED:20230601T081414Z
UID:11501-1690070400-1690156799@ryokka-c.jp
SUMMARY:昆虫標本作り入門 （キャンセル待ち）
DESCRIPTION:【研修名】　昆虫標本作り入門～昆虫の標本作りを学びましょう～\n\n【日　時】　7月23日(日)　10:00～12:00\n\n【内　容】　昆虫について学び、標本を作ります\n\n【集　合】　学習室\n\n【講　師】　技術士（森林部門）　相良　伊知郎　先生\n\n【詳　細】　要予約先着10組　材料費1\,000円\n\n　 \n\n※予約開始は6月1日からです。管理事務所窓口か、お電話(082-899-2811)でご予約ください。\n\n \n\n※広島市に気象警報等発令の場合は臨時閉園となり、研修会も中止します。\n\n高齢者いきいき活動ポイント（1ポイント）対象イベントです。\n\n年間行事計画
URL:https://ryokka-c.jp/info2/calendar/konchuhyohon/
CATEGORIES:イベント,研修会
END:VEVENT
BEGIN:VEVENT
DTSTART;VALUE=DATE:20230723
DTEND;VALUE=DATE:20230723
DTSTAMP:20260421T022611
CREATED:20230704T080731Z
LAST-MODIFIED:20230704T080844Z
UID:11508-1690070400-1690156799@ryokka-c.jp
SUMMARY:夏休み自由工作塾（自由参加）
DESCRIPTION:【研修名】　夏休み自由工作塾\n\n【日　時】　7月23日(日)　10:00～15:00\n\n【内　容】　木の実や木の枝を使って自由に作品を作ります\n\n【集　合】　レストハウス裏庭\n\n【講　師】　緑化センターボランティア　ふれあい湧\n\n【詳　細】　自由参加（随時受付）　材料費100円　※荒天中止\n\n\n\n \n\n \n\n※広島市に気象警報等発令の場合は臨時閉園となり、研修会も中止します。\n\n高齢者いきいき活動ポイント（1ポイント）対象イベントです。\n\n年間行事計画
URL:https://ryokka-c.jp/info2/calendar/natsuyasumijiyukosaku_2/
CATEGORIES:イベント,研修会
END:VEVENT
END:VCALENDAR