BEGIN:VCALENDAR
VERSION:2.0
PRODID:-//広島県緑化センター - ECPv4.4.5//NONSGML v1.0//EN
CALSCALE:GREGORIAN
METHOD:PUBLISH
X-WR-CALNAME:広島県緑化センター
X-ORIGINAL-URL:https://ryokka-c.jp/info2
X-WR-CALDESC:Events for 広島県緑化センター
BEGIN:VEVENT
DTSTART;VALUE=DATE:20230909
DTEND;VALUE=DATE:20230909
DTSTAMP:20260420T233048
CREATED:20230905T074925Z
LAST-MODIFIED:20230913T044328Z
UID:12499-1694217600-1694303999@ryokka-c.jp
SUMMARY:野菊を育てよう　～シラヤマギク、ノコンギクの銘品の栽培～　（要予約）
DESCRIPTION:【研修名】野菊を育てよう　～シラヤマギク、ノコンギクの銘品の栽培～\n\n【日時】　9月9日(土)　10:00～12:00\n\n【集合】　学習室\n\n【内容】　キクについて学んだ後、実践して持ち帰ります\n\n【講師】　森林インストラクター　長井　稔　先生\n\n【詳細】　要予約先着20組、材料費1\,500円\n\n \n\n\n\n \n\n \n\n※予約開始は8月1日からです。管理事務所窓口か、お電話(082-899-2811)でご予約ください。\n\n高齢者いきいき活動ポイント（1ポイント）対象イベントです。\n\n \n\n \n\n年間行事計画
URL:https://ryokka-c.jp/info2/calendar/%e9%87%8e%e8%8f%8a%e3%82%92%e8%82%b2%e3%81%a6%e3%82%88%e3%81%86%e3%80%80%ef%bd%9e%e3%82%b7%e3%83%a9%e3%83%a4%e3%83%9e%e3%82%ae%e3%82%af%e3%80%81%e3%83%8e%e3%82%b3%e3%83%b3%e3%82%ae%e3%82%af%e3%81%ae/
CATEGORIES:イベント
END:VEVENT
END:VCALENDAR