BEGIN:VCALENDAR
VERSION:2.0
PRODID:-//広島県緑化センター - ECPv4.4.5//NONSGML v1.0//EN
CALSCALE:GREGORIAN
METHOD:PUBLISH
X-WR-CALNAME:広島県緑化センター
X-ORIGINAL-URL:https://ryokka-c.jp/info2
X-WR-CALDESC:Events for 広島県緑化センター
BEGIN:VEVENT
DTSTART;VALUE=DATE:20231001
DTEND;VALUE=DATE:20231130
DTSTAMP:20260420T203735
CREATED:20231015T044826Z
LAST-MODIFIED:20231015T045118Z
UID:12652-1696118400-1701388799@ryokka-c.jp
SUMMARY:Instagramフォトコンテスト2023
DESCRIPTION:広島県緑化センターInstagramフォトコンテストは、今回で10回目を迎えます。\n\n広島県緑化センターで撮影した写真を募集します。\n\n（撮影時期、撮影年はいつでもOK!!)\n\n \n\n \n\n\n\n \n\n【募集期間】10月1日(日)～11月30日(木)\n\n【応募の方法はかんたん！】\n\n①まずはこちらから応募要項をご確認ください(PDF)\n\n②Instagramで広島県緑化センターのアカウントをフォロー\n\n③Instagramから園内で撮影した写真をハッシュタグ（ #広島県緑化センターフォトコン2023）をつけて投稿\n\n写真はおひとり5点まで応募可能です.\n\nグランプリにはなんと！1万円分のギフトカードをプレゼントします！（グランプリの他、各賞を予定しています）\n\n広島県緑化センターの魅力あふれる(映える)1枚をお待ちしています！\n\n※応募要項を必ずお読みいただき、投稿方法や注意事項をご確認ください。\n\n \n\n \n\n※誤って6枚以上投稿された場合には最初の5枚を応募作品とします。\n\n※ハッシュタグの間違いが無いよう投稿前に再度ご確認ください。\n\n※他の写真コンテスト等に応募された作品は審査対象となりません。（他のコンテストの応募用ハッシュタグがついている場合も審査対象になりません。）\n\n※広島県緑化センターの公園ルールを破って撮影した作品は審査対象になりません。（わんこひろば以外でのノーリードの犬の写真、進入禁止場所での撮影、開園時間外の撮影など）\n\n【過去の入賞作品はこちらからご覧いただけます】\n\n2022秋\n\n2022春\n\n2021秋　2021春\n\n2020春\,2022秋\n\n2019秋　2019春\n\n2018　2017\n\n広島県緑化センターInstagram公式アカウント\n\n[caption id="attachment_9473" align="alignnone" width="150"] 公式アカウントネームタグ[/caption]\n\n[caption id="attachment_9472" align="alignnone" width="135"] 公式アカウント[/caption]\n\nプライバシーポリシーについてはこちらをご覧ください（新しいタブで開きます）\n
URL:https://ryokka-c.jp/info2/calendar/instagramphotocon2023/
CATEGORIES:イベント
END:VEVENT
BEGIN:VEVENT
DTSTART;VALUE=DATE:20231103
DTEND;VALUE=DATE:20231103
DTSTAMP:20260420T203735
CREATED:20230901T002544Z
LAST-MODIFIED:20230902T021602Z
UID:11750-1698969600-1699055999@ryokka-c.jp
SUMMARY:どんぐりを見分けよう（自由参加）
DESCRIPTION:【研修名】　どんぐりを見分けよう\n\n【日　時】　11月3日(金祝)　10:00～15:00\n\n【内　容】　どんぐりを集めて種類を調べます\n\n【集　合】　レストハウス前\n\n【講　師】　緑化センターボランティア　ふれあい湧\n\n【詳　細】　自由参加（随時受付）　無料\n\n \n\n※状況によっては研修内容の変更や開催を中止する事があります。\n\n※感染防止対策のご協力をお願いします。\n\n※広島市に気象警報等発令の場合は臨時閉園となり、研修会も中止します。\n\n高齢者いきいき活動ポイント（1ポイント）対象イベントです。\n\n年間行事計画…申請書、その他から「★令和5年度行事・イベント一覧表（R5.4.1更新）」をご覧ください。
URL:https://ryokka-c.jp/info2/calendar/donguriwomiwakeyo/
CATEGORIES:イベント
END:VEVENT
BEGIN:VEVENT
DTSTART;VALUE=DATE:20231103
DTEND;VALUE=DATE:20231103
DTSTAMP:20260420T203735
CREATED:20231012T000014Z
LAST-MODIFIED:20231012T035936Z
UID:9957-1698969600-1699055999@ryokka-c.jp
SUMMARY:ノルディック・ウォーク体験会　R5.11.3
DESCRIPTION:2本のポールを使っての健康ウォークを体験しませんか？\n\n \n\n日時：令和5年11月3日（金祝） 10:30～12:00\n場所：レストハウス前　10:15～受付\n申込：要事前予約（ノルディックウォーク体験会チラシ裏面の参加申込書を申込先までFAXして下さい。申込書は緑化センター園内各所に設置。もしくは以下、詳しくはこちらよりダウンロードしてご記入下さい。）\n\n \n\n申込締切：11月1日(水)　・　参加費：無料\n\n \n\n申込先\n①(株) オール・オン・スポーツ　FAX 082-569-9320\n②広島県緑化センター　　　　　FAX 082-899-2843\n\n\n\n詳しくはこちら\n初心者の方も安心！　インストラクターが丁寧に教えます。\n緑豊かな自然の中で、さわやかな汗をかきましょう‼\n皆さんのご参加をお待ちしております。
URL:https://ryokka-c.jp/info2/calendar/norudik/
CATEGORIES:イベント
END:VEVENT
BEGIN:VEVENT
DTSTART;TZID=Asia/Tokyo:20231103T220000
DTEND;TZID=Asia/Tokyo:20231103T220000
DTSTAMP:20260420T203735
CREATED:20231028T230055Z
LAST-MODIFIED:20231104T003156Z
UID:7515-1699048800-1699048800@ryokka-c.jp
SUMMARY:もみじ祭りお楽しみイベント
DESCRIPTION:！！！！　もみじ祭りお楽しみイベント情報　！！！！\n\n11月3日（金祝）は、レストハウス駐車場にて\n\n『もみじ祭りお楽しみイベント』\n\nを開催します。\n\nどんぐりを見分けよう、ネイチャーゲーム、\n\nノルディックウォーク体験会、スタンプラリーなどのイベントブースや、\n\n草花販売、キッチンカーの出店もあります。\n\nご家族で楽しめる催しを準備しています。\n\n紅葉を見ながら緑化センターを満喫してください！\n\n（天候等の事情により出展内容が変更することもあります）\n\n \n\n※追加情報（10/21）※\n\nコロナ禍で中止していた『落ち葉プール』を復活します！\n\nお子様に大人気のイベントです。\n\nレストハウス駐車場のわきで開催します。\n\nまた、レストハウス裏庭では『モルック体験会』も開催します。\n\nモルックとは、フィンランド発祥で、木製の棒を投げてピンを倒すゲームです。\n\nお子様からお年寄りまでどなたでも楽しめるゲームです。\n\n\n\n\n\n \n\n \n\n11月の車両交通規制の案内はこちら\n\n森林公園と緑化センターを結ぶシャトルバスを運行します。詳しくはこちら(森林公園ホームページ)\n\n \n\n☆☆☆☆☆☆☆☆☆☆　過去のもみじ祭りお楽しみイベントの様子☆☆☆☆☆☆☆☆☆☆\n\n    　
URL:https://ryokka-c.jp/info2/calendar/%e3%82%82%e3%81%bf%e3%81%98%e7%a5%ad%e3%82%8a%e3%81%8a%e6%a5%bd%e3%81%97%e3%81%bf%e3%82%a4%e3%83%99%e3%83%b3%e3%83%88/
CATEGORIES:イベント
END:VEVENT
END:VCALENDAR