BEGIN:VCALENDAR
VERSION:2.0
PRODID:-//広島県緑化センター - ECPv4.4.5//NONSGML v1.0//EN
CALSCALE:GREGORIAN
METHOD:PUBLISH
X-WR-CALNAME:広島県緑化センター
X-ORIGINAL-URL:https://ryokka-c.jp/info2
X-WR-CALDESC:Events for 広島県緑化センター
BEGIN:VEVENT
DTSTART;VALUE=DATE:20231001
DTEND;VALUE=DATE:20231130
DTSTAMP:20260420T220042
CREATED:20231015T044826Z
LAST-MODIFIED:20231015T045118Z
UID:12652-1696118400-1701388799@ryokka-c.jp
SUMMARY:Instagramフォトコンテスト2023
DESCRIPTION:広島県緑化センターInstagramフォトコンテストは、今回で10回目を迎えます。\n\n広島県緑化センターで撮影した写真を募集します。\n\n（撮影時期、撮影年はいつでもOK!!)\n\n \n\n \n\n\n\n \n\n【募集期間】10月1日(日)～11月30日(木)\n\n【応募の方法はかんたん！】\n\n①まずはこちらから応募要項をご確認ください(PDF)\n\n②Instagramで広島県緑化センターのアカウントをフォロー\n\n③Instagramから園内で撮影した写真をハッシュタグ（ #広島県緑化センターフォトコン2023）をつけて投稿\n\n写真はおひとり5点まで応募可能です.\n\nグランプリにはなんと！1万円分のギフトカードをプレゼントします！（グランプリの他、各賞を予定しています）\n\n広島県緑化センターの魅力あふれる(映える)1枚をお待ちしています！\n\n※応募要項を必ずお読みいただき、投稿方法や注意事項をご確認ください。\n\n \n\n \n\n※誤って6枚以上投稿された場合には最初の5枚を応募作品とします。\n\n※ハッシュタグの間違いが無いよう投稿前に再度ご確認ください。\n\n※他の写真コンテスト等に応募された作品は審査対象となりません。（他のコンテストの応募用ハッシュタグがついている場合も審査対象になりません。）\n\n※広島県緑化センターの公園ルールを破って撮影した作品は審査対象になりません。（わんこひろば以外でのノーリードの犬の写真、進入禁止場所での撮影、開園時間外の撮影など）\n\n【過去の入賞作品はこちらからご覧いただけます】\n\n2022秋\n\n2022春\n\n2021秋　2021春\n\n2020春\,2022秋\n\n2019秋　2019春\n\n2018　2017\n\n広島県緑化センターInstagram公式アカウント\n\n[caption id="attachment_9473" align="alignnone" width="150"] 公式アカウントネームタグ[/caption]\n\n[caption id="attachment_9472" align="alignnone" width="135"] 公式アカウント[/caption]\n\nプライバシーポリシーについてはこちらをご覧ください（新しいタブで開きます）\n
URL:https://ryokka-c.jp/info2/calendar/instagramphotocon2023/
CATEGORIES:イベント
END:VEVENT
END:VCALENDAR