BEGIN:VCALENDAR
VERSION:2.0
PRODID:-//広島県緑化センター - ECPv4.4.5//NONSGML v1.0//EN
CALSCALE:GREGORIAN
METHOD:PUBLISH
X-WR-CALNAME:広島県緑化センター
X-ORIGINAL-URL:https://ryokka-c.jp/info2
X-WR-CALDESC:Events for 広島県緑化センター
BEGIN:VEVENT
DTSTART;VALUE=DATE:20241020
DTEND;VALUE=DATE:20241020
DTSTAMP:20260419T204835
CREATED:20241015T230148Z
LAST-MODIFIED:20241020T040227Z
UID:13436-1729382400-1729468799@ryokka-c.jp
SUMMARY:第16回こども写生大会
DESCRIPTION:【研修名】　第16回 ひろしま遊学の森　こども写生大会\n～秋の緑化センターを描こう～\n\n【日　時】　10月20日(日)　10:00～12:00\n\n【内　容】　園内で自由に絵を描きます\n\n【集　合】　学習室\n\n【講　師】　元 中国新聞社図画教室指導審査員　横山　直江　先生\n\n【詳　細】　自由参加　無料　画材持参（画用紙以外）\n\n\n\n★PDFはこちら\n\n\n\n【過去の入賞作品】\n第1回　　　　　　第2回（中止）　　第3回（中止）\n第4回 　　　　 　 第5回　　　　 　   第6回\n第7回（中止）　 　第8回　　　　　    第9回（中止）\n第10回　　　　　 第11回　　　　　    第12回\n第13回　　　　 　第14回 　　　　　　第15回\n\n【注意事項】\n・貴重品はご自身での管理をお願いします。\n・広島市に気象警報等発令の場合は閉園となり、当研修も中止となります。\n・一部園路は車両が通行します。描画の際は、安全が確保できる場所をお選びいただき、保護者の方は近くでお子様を見守ってください。\n・当園は山の中に位置する自然の公園です。様々な生き物や植物があり、中には危険な動植物も見られます。また、急な天候の変化が起きる可能性もあります。十分に注意してください。事故やお怪我等ありましたら、管理事務所（082-899-2811）までご連絡ください。\n\n年間行事計画
URL:https://ryokka-c.jp/info2/calendar/kodomosyaseitaikai-autumn/
CATEGORIES:イベント
END:VEVENT
END:VCALENDAR