BEGIN:VCALENDAR
VERSION:2.0
PRODID:-//広島県緑化センター - ECPv4.4.5//NONSGML v1.0//EN
CALSCALE:GREGORIAN
METHOD:PUBLISH
X-WR-CALNAME:広島県緑化センター
X-ORIGINAL-URL:https://ryokka-c.jp/info2
X-WR-CALDESC:Events for 広島県緑化センター
BEGIN:VEVENT
DTSTART;VALUE=DATE:20250202
DTEND;VALUE=DATE:20250202
DTSTAMP:20260419T143935
CREATED:20241217T041946Z
LAST-MODIFIED:20250202T075148Z
UID:13880-1738454400-1738540799@ryokka-c.jp
SUMMARY:クマノザクラ講演会（事前申込不要）
DESCRIPTION:\nこのクマノザクラの写真は『木楽Nakamura』様よりご提供いただきました。\n \n\n \n\n特別研修会のお知らせです。\n\n \n\n2025年2月2日（日）10：00から12：00\n\n『クマノザクラ講演会』\n\nを開催します！\n\n \n\nクマノザクラは、2018年に日本国内の野生の桜としては100年ぶりに新種として公表された桜です。\n\n \n\nクマノザクラの発見者のおひとりである森林総合研究所の勝木先生をお迎えして、クマノザクラや日本の桜についてのお話を伺います。\n\n \n\n講演会終了後には、希望者によるクマノザクラの植樹（3本）を予定しています。\n\n \n\nサクラの発見者のお話を聞くことができるまたとない機会です。\n\n \n\n事前の申し込みは不要です。\n\n \n\n皆様のご来場をお待ちしております。\n\n \n\n講演会の詳しい内容は、下のチラシをご覧ください。\n\n画像をクリック／タップすると、PDFで開くことができます。\n\n \n\n\n\n \n\n\n\n \n\n 
URL:https://ryokka-c.jp/info2/calendar/kumanozakurakouenkai/
CATEGORIES:イベント
END:VEVENT
END:VCALENDAR