BEGIN:VCALENDAR
VERSION:2.0
PRODID:-//広島県緑化センター - ECPv4.4.5//NONSGML v1.0//EN
CALSCALE:GREGORIAN
METHOD:PUBLISH
X-WR-CALNAME:広島県緑化センター
X-ORIGINAL-URL:https://ryokka-c.jp/info2
X-WR-CALDESC:Events for 広島県緑化センター
BEGIN:VEVENT
DTSTART;VALUE=DATE:20250314
DTEND;VALUE=DATE:20250314
DTSTAMP:20260419T131209
CREATED:20250305T045132Z
LAST-MODIFIED:20250315T014857Z
UID:13973-1741910400-1741996799@ryokka-c.jp
SUMMARY:広島県内のスミレの見分け方（自由参加）
DESCRIPTION:【研修名】　広島県内のスミレの見分け方\n\n【日　時】　3月14日(金)　13:30～15:00\n\n【内　容】　広島県内のスミレの種類と、その違いを知ろう！\n\n【集　合】　学習室\n\n【コーディネーター】　駄賀　恒男　先生\n\n【詳　細】　自由参加　無料　ルーペ持参\n\n \n\n\n\n※天候等によって研修内容の変更や開催を中止する事があります。\n\n高齢者いきいき活動ポイント（1ポイント）対象イベントです。
URL:https://ryokka-c.jp/info2/calendar/sumiremiwakekata/
CATEGORIES:イベント,研修会
END:VEVENT
END:VCALENDAR